BEGIN:VCALENDAR
VERSION:2.0
PRODID:-//Davis Cemetery District &amp; Arboretum - ECPv4.6.21//NONSGML v1.0//EN
CALSCALE:GREGORIAN
METHOD:PUBLISH
X-WR-CALNAME:Davis Cemetery District &amp; Arboretum
X-ORIGINAL-URL:https://daviscemetery.org
X-WR-CALDESC:Events for Davis Cemetery District &amp; Arboretum
BEGIN:VEVENT
DTSTART;TZID=America/Los_Angeles:20230306T103000
DTEND;TZID=America/Los_Angeles:20230306T123000
DTSTAMP:20260422T091704
CREATED:20230214T184821Z
LAST-MODIFIED:20230214T185105Z
UID:4804-1678098600-1678105800@daviscemetery.org
SUMMARY:Carol Bergstrom Burial
DESCRIPTION:
URL:https://daviscemetery.org/event/carol-bergstom-burial/
CATEGORIES:Davis Cemetery District
END:VEVENT
END:VCALENDAR