BEGIN:VCALENDAR
VERSION:2.0
PRODID:-//Davis Cemetery District &amp; Arboretum - ECPv4.6.21//NONSGML v1.0//EN
CALSCALE:GREGORIAN
METHOD:PUBLISH
X-WR-CALNAME:Davis Cemetery District &amp; Arboretum
X-ORIGINAL-URL:https://daviscemetery.org
X-WR-CALDESC:Events for Davis Cemetery District &amp; Arboretum
BEGIN:VEVENT
DTSTART;TZID=America/Los_Angeles:20230313T113000
DTEND;TZID=America/Los_Angeles:20230313T133000
DTSTAMP:20260422T133739
CREATED:20230302T202838Z
LAST-MODIFIED:20230302T202838Z
UID:4909-1678707000-1678714200@daviscemetery.org
SUMMARY:Candida Garcia Burial
DESCRIPTION:
URL:https://daviscemetery.org/event/candida-garcia-burial/
CATEGORIES:Davis Cemetery District
END:VEVENT
END:VCALENDAR