BEGIN:VCALENDAR
VERSION:2.0
PRODID:-//Davis Cemetery District &amp; Arboretum - ECPv4.6.21//NONSGML v1.0//EN
CALSCALE:GREGORIAN
METHOD:PUBLISH
X-WR-CALNAME:Davis Cemetery District &amp; Arboretum
X-ORIGINAL-URL:https://daviscemetery.org
X-WR-CALDESC:Events for Davis Cemetery District &amp; Arboretum
BEGIN:VEVENT
DTSTART;TZID=America/Los_Angeles:20240720T103000
DTEND;TZID=America/Los_Angeles:20240720T123000
DTSTAMP:20260422T103613
CREATED:20240708T170902Z
LAST-MODIFIED:20240709T213816Z
UID:5895-1721471400-1721478600@daviscemetery.org
SUMMARY:Bridget Huntington Burial
DESCRIPTION:
URL:https://daviscemetery.org/event/bridget-huntington-burial/
CATEGORIES:Davis Cemetery District
END:VEVENT
END:VCALENDAR