BEGIN:VCALENDAR
VERSION:2.0
PRODID:-//Davis Cemetery District &amp; Arboretum - ECPv4.6.21//NONSGML v1.0//EN
CALSCALE:GREGORIAN
METHOD:PUBLISH
X-WR-CALNAME:Davis Cemetery District &amp; Arboretum
X-ORIGINAL-URL:https://daviscemetery.org
X-WR-CALDESC:Events for Davis Cemetery District &amp; Arboretum
BEGIN:VEVENT
DTSTART;TZID=America/Los_Angeles:20230422T110000
DTEND;TZID=America/Los_Angeles:20230422T130000
DTSTAMP:20260422T123224
CREATED:20230403T154323Z
LAST-MODIFIED:20230403T154323Z
UID:4959-1682161200-1682168400@daviscemetery.org
SUMMARY:Betty Brickey Burial
DESCRIPTION:
URL:https://daviscemetery.org/event/betty-brickey-burial/
CATEGORIES:Davis Cemetery District
END:VEVENT
END:VCALENDAR