BEGIN:VCALENDAR
VERSION:2.0
PRODID:-//Davis Cemetery District &amp; Arboretum - ECPv4.6.21//NONSGML v1.0//EN
CALSCALE:GREGORIAN
METHOD:PUBLISH
X-WR-CALNAME:Davis Cemetery District &amp; Arboretum
X-ORIGINAL-URL:https://daviscemetery.org
X-WR-CALDESC:Events for Davis Cemetery District &amp; Arboretum
BEGIN:VEVENT
DTSTART;TZID=UTC+0:20151212T100000
DTEND;TZID=UTC+0:20151212T110000
DTSTAMP:20260423T114716
CREATED:20151211T055105Z
LAST-MODIFIED:20151211T055105Z
UID:170-1449914400-1449918000@daviscemetery.org
SUMMARY:Angeline Starr McCloskey Service
DESCRIPTION:
URL:https://daviscemetery.org/event/angeline-starr-mccloskey-service/
LOCATION:820 Pole Line Road\, Davis\, CA\, 95616\, United States
END:VEVENT
END:VCALENDAR