BEGIN:VCALENDAR
VERSION:2.0
PRODID:-//Davis Cemetery District &amp; Arboretum - ECPv4.6.21//NONSGML v1.0//EN
CALSCALE:GREGORIAN
METHOD:PUBLISH
X-WR-CALNAME:Davis Cemetery District &amp; Arboretum
X-ORIGINAL-URL:https://daviscemetery.org
X-WR-CALDESC:Events for Davis Cemetery District &amp; Arboretum
BEGIN:VEVENT
DTSTART;TZID=America/Los_Angeles:20260429T150000
DTEND;TZID=America/Los_Angeles:20260429T170000
DTSTAMP:20260421T003038
CREATED:20260420T201620Z
LAST-MODIFIED:20260420T201912Z
UID:7129-1777474800-1777482000@daviscemetery.org
SUMMARY:Angela Furnari Burial
DESCRIPTION:
URL:https://daviscemetery.org/event/angela-furnari-burial/
CATEGORIES:Davis Cemetery District
END:VEVENT
END:VCALENDAR