BEGIN:VCALENDAR
VERSION:2.0
PRODID:-//Davis Cemetery District &amp; Arboretum - ECPv4.6.21//NONSGML v1.0//EN
CALSCALE:GREGORIAN
METHOD:PUBLISH
X-WR-CALNAME:Davis Cemetery District &amp; Arboretum
X-ORIGINAL-URL:https://daviscemetery.org
X-WR-CALDESC:Events for Davis Cemetery District &amp; Arboretum
BEGIN:VEVENT
DTSTART;TZID=America/Los_Angeles:20230206T100000
DTEND;TZID=America/Los_Angeles:20230206T110000
DTSTAMP:20260422T073943
CREATED:20230131T194543Z
LAST-MODIFIED:20230203T204304Z
UID:4774-1675677600-1675681200@daviscemetery.org
SUMMARY:Donald Andriessen Burial
DESCRIPTION:
URL:https://daviscemetery.org/event/andriessen-burial/
CATEGORIES:Davis Cemetery District
END:VEVENT
END:VCALENDAR