BEGIN:VCALENDAR
VERSION:2.0
PRODID:-//Davis Cemetery District &amp; Arboretum - ECPv4.6.21//NONSGML v1.0//EN
CALSCALE:GREGORIAN
METHOD:PUBLISH
X-WR-CALNAME:Davis Cemetery District &amp; Arboretum
X-ORIGINAL-URL:https://daviscemetery.org
X-WR-CALDESC:Events for Davis Cemetery District &amp; Arboretum
BEGIN:VEVENT
DTSTART;TZID=America/Los_Angeles:20250721T150000
DTEND;TZID=America/Los_Angeles:20250721T170000
DTSTAMP:20260421T084958
CREATED:20250625T220255Z
LAST-MODIFIED:20250625T220255Z
UID:6664-1753110000-1753117200@daviscemetery.org
SUMMARY:Andrew Johansson Burial
DESCRIPTION:
URL:https://daviscemetery.org/event/andrew-johansson-burial/
CATEGORIES:Davis Cemetery District
END:VEVENT
END:VCALENDAR