BEGIN:VCALENDAR
VERSION:2.0
PRODID:-//Davis Cemetery District &amp; Arboretum - ECPv4.6.21//NONSGML v1.0//EN
CALSCALE:GREGORIAN
METHOD:PUBLISH
X-WR-CALNAME:Davis Cemetery District &amp; Arboretum
X-ORIGINAL-URL:https://daviscemetery.org
X-WR-CALDESC:Events for Davis Cemetery District &amp; Arboretum
BEGIN:VEVENT
DTSTART;TZID=America/Los_Angeles:20220708T100000
DTEND;TZID=America/Los_Angeles:20220708T120000
DTSTAMP:20260425T215049
CREATED:20220705T163817Z
LAST-MODIFIED:20220705T163817Z
UID:4337-1657274400-1657281600@daviscemetery.org
SUMMARY:Alberto Gonsalves Burial
DESCRIPTION:
URL:https://daviscemetery.org/event/alberto-gonsalves-burial/
CATEGORIES:Davis Cemetery District
END:VEVENT
END:VCALENDAR