BEGIN:VCALENDAR
VERSION:2.0
PRODID:-//Davis Cemetery District &amp; Arboretum - ECPv4.6.21//NONSGML v1.0//EN
CALSCALE:GREGORIAN
METHOD:PUBLISH
X-WR-CALNAME:Davis Cemetery District &amp; Arboretum
X-ORIGINAL-URL:https://daviscemetery.org
X-WR-CALDESC:Events for Davis Cemetery District &amp; Arboretum
BEGIN:VEVENT
DTSTART;VALUE=DATE:20240829
DTEND;VALUE=DATE:20240830
DTSTAMP:20260422T055655
CREATED:20240827T173135Z
LAST-MODIFIED:20240827T173135Z
UID:6020-1724889600-1724975999@daviscemetery.org
SUMMARY:Administrative Office Closure
DESCRIPTION:
URL:https://daviscemetery.org/event/administrative-office-closure/
CATEGORIES:Davis Cemetery District
END:VEVENT
END:VCALENDAR