BEGIN:VCALENDAR
VERSION:2.0
PRODID:-//Davis Cemetery District &amp; Arboretum - ECPv4.6.21//NONSGML v1.0//EN
CALSCALE:GREGORIAN
METHOD:PUBLISH
X-WR-CALNAME:Davis Cemetery District &amp; Arboretum
X-ORIGINAL-URL:https://daviscemetery.org
X-WR-CALDESC:Events for Davis Cemetery District &amp; Arboretum
BEGIN:VEVENT
DTSTART;TZID=America/Los_Angeles:20241213T120000
DTEND;TZID=America/Los_Angeles:20241213T130000
DTSTAMP:20260422T015312
CREATED:20241122T192610Z
LAST-MODIFIED:20241210T180250Z
UID:6235-1734091200-1734094800@daviscemetery.org
SUMMARY:2024 Wreaths Across America
DESCRIPTION:2024 Wreaths Across America Wreath Laying Ceremony\n \nWEATHER UPDATE: Due to the rain the Davis area is expected to receive on Saturday\, our locations wreath laying ceremony has been moved to Friday\, December 13\, 2024\, at 12pm. We are working with Wreaths Across America headquarters to update our locations page now.  \nOn December 14\, 2024\, at 10:00 am\, Wreaths Across America will be at Davis Cemetery District to Remember and Honor our Veterans through the laying of remembrance wreaths on the graves of our country’s fallen heroes. We will have a short program\, followed by wreath placement. This will be the district’s 2nd year participating. \n  \n
URL:https://daviscemetery.org/event/2024-wreaths-across-america/
CATEGORIES:Davis Cemetery District
END:VEVENT
END:VCALENDAR