BEGIN:VCALENDAR
VERSION:2.0
PRODID:-//Davis Cemetery District &amp; Arboretum - ECPv4.6.21//NONSGML v1.0//EN
CALSCALE:GREGORIAN
METHOD:PUBLISH
X-WR-CALNAME:Davis Cemetery District &amp; Arboretum
X-ORIGINAL-URL:https://daviscemetery.org
X-WR-CALDESC:Events for Davis Cemetery District &amp; Arboretum
BEGIN:VEVENT
DTSTART;TZID=America/Los_Angeles:20241111T103000
DTEND;TZID=America/Los_Angeles:20241111T120000
DTSTAMP:20260422T031456
CREATED:20241024T203236Z
LAST-MODIFIED:20241024T203236Z
UID:6190-1731321000-1731326400@daviscemetery.org
SUMMARY:2024 Veterans Day Program
DESCRIPTION:2024 Program Details \nMonday\, November 11\, 2024 \nMusical Prelude: 10:30 am / Formal Program: 11:00 am \nMusical performances by Golden State Brass\, Davis Local Vocals\, and The Davis Madrigals. \nOpening and Closing prayers by Rev. Alex Haider Winnett \nRev. Alex Haider-Winnett is a Unitarian Universalist minister and serves at University Retirement Community. He lives in Davis with his family. He’s an Odd Fellow\, a gardener and enjoys spending time at the library. \nKeynote Speaker: Sterling Koliba \nSterling was born and raised in Carolton\, Texas\, leaving at age 18 to join the United States Marine Corps\, where he proudly served 10 years as a Marine. Looking to spend more time with his family\, Sterling then switched to the United States Air Force Reserve where he served another ten years. In 2024\, he began his journey with the California Army National Guard\, looking to complete his last ten years of service. In addition to his continued service to his country\, Sterling is also very active in serving his local community. He is involved in many veteran organizations: he is the Jr. Vice Commander of the Dixon VFW post\, a member of the Dixon American Legion post\, and a founding member of the Veterans Beer Club chapter for Yolo and Solano County. Sterling also participates in the Toastmasters and Davis Sunset Rotary. When he’s not volunteering his time\, he works in Davis with Edward Jones and is the co-owner of Little Reata Stables horse boarding facility. \nSterling was deployed once in support of OIF and once to Iraq. \nMilitary Rankings: \nSergeant Marines \nTechnical Sergeant Air Force \nStaff Sergeant Army \n
URL:https://daviscemetery.org/event/2024-veterans-day-program/
CATEGORIES:Davis Cemetery District
END:VEVENT
END:VCALENDAR